BEGIN:VCALENDAR
VERSION:2.0
PRODID:-//eventon.com NONSGML v1.0//EN
CALSCALE:GREGORIAN
METHOD:PUBLISH
BEGIN:VEVENT
UID:69e78261f0f01
DTSTAMP:20260421T135753Z
DTSTART:20250403T083000Z
DTEND:20250403T093000Z
LOCATION:
SUMMARY:Measuring the alpha of private fund managers - a global league table (session 1: Europe/Asia)
DESCRIPTION:Join us on April 3rd\,  2025 at 9.30am BST for our webinar &#82
 20;Measuring the alpha of private fund managers &#8211; a global league tab
 le&#8221; where we will unveil our first global league table of private fun
 d managers based on alpha performance. Using a robust data-driven methodolo
 gy that isolates fund returns[..]\nhttps://sipametrics.com/events/measuring
 -the-alpha-of-private-fund-managers-session-1/
URL:https://sipametrics.com/events/measuring-the-alpha-of-private-fund-managers-session-1/
END:VEVENT
END:VCALENDAR